BEGIN:VCALENDAR
VERSION:2.0
PRODID:-//Boyd Ranch - ECPv6.15.20//NONSGML v1.0//EN
CALSCALE:GREGORIAN
METHOD:PUBLISH
X-WR-CALNAME:Boyd Ranch
X-ORIGINAL-URL:https://www.boydranch.org
X-WR-CALDESC:Events for Boyd Ranch
REFRESH-INTERVAL;VALUE=DURATION:PT1H
X-Robots-Tag:noindex
X-PUBLISHED-TTL:PT1H
BEGIN:VTIMEZONE
TZID:America/Phoenix
BEGIN:STANDARD
TZOFFSETFROM:-0700
TZOFFSETTO:-0700
TZNAME:MST
DTSTART:20230101T000000
END:STANDARD
END:VTIMEZONE
BEGIN:VEVENT
DTSTART;TZID=America/Phoenix:20240531T170000
DTEND;TZID=America/Phoenix:20240601T130000
DTSTAMP:20260423T212303
CREATED:20240518T001640Z
LAST-MODIFIED:20240518T002140Z
UID:15755-1717174800-1717246800@www.boydranch.org
SUMMARY:Kids Club Water Day Fun
DESCRIPTION:Kids Clubbers!! \nIt’s that special time again since the weather is perfect for a fun day in the water!  Join us at Boyd Ranch for all sorts of water activities and water science experiments.  Drive in on Friday\, set up your camp (gate open at 3:00 PM) and gather at 5:00 around the fire pit! \nSaturday starts at 9:00 am-1:00 pm. \nBring an extra set of clothes for afterwards (you may get wet!). \nLunch will be provided on Saturday! \nKids bring your friends\, we’re looking for new members!
URL:https://www.boydranch.org/event/kids-club-water-day-fun/
CATEGORIES:Camping,Kids Club
END:VEVENT
END:VCALENDAR