BEGIN:VCALENDAR
VERSION:2.0
PRODID:-//Boyd Ranch - ECPv6.15.20//NONSGML v1.0//EN
CALSCALE:GREGORIAN
METHOD:PUBLISH
X-WR-CALNAME:Boyd Ranch
X-ORIGINAL-URL:https://www.boydranch.org
X-WR-CALDESC:Events for Boyd Ranch
REFRESH-INTERVAL;VALUE=DURATION:PT1H
X-Robots-Tag:noindex
X-PUBLISHED-TTL:PT1H
BEGIN:VTIMEZONE
TZID:America/Phoenix
BEGIN:STANDARD
TZOFFSETFROM:-0700
TZOFFSETTO:-0700
TZNAME:MST
DTSTART:20220101T000000
END:STANDARD
END:VTIMEZONE
BEGIN:VEVENT
DTSTART;TZID=America/Phoenix:20231104T090000
DTEND;TZID=America/Phoenix:20231104T140000
DTSTAMP:20260425T054554
CREATED:20230926T042659Z
LAST-MODIFIED:20230926T163706Z
UID:15273-1699088400-1699106400@www.boydranch.org
SUMMARY:Boyd Ranch Kids Club - All About Horses!
DESCRIPTION:Learn about breeds\, colors and more about horses\, you will have the opportunity to meet several horses and learn what it takes to own a horse. Info on pony club will be available..
URL:https://www.boydranch.org/event/boyd-ranch-kids-club-all-about-horses/
LOCATION:The Boyd Ranch\, 34475 Scenic Loop Road\, Wickenburg\, Arizona\, 85390\, United States
CATEGORIES:Kids Club
ORGANIZER;CN="Kim Johnson":MAILTO:kimsabookworm@gmail.com
END:VEVENT
END:VCALENDAR