BEGIN:VCALENDAR
VERSION:2.0
PRODID:-//Boyd Ranch - ECPv6.15.20//NONSGML v1.0//EN
CALSCALE:GREGORIAN
METHOD:PUBLISH
X-ORIGINAL-URL:https://www.boydranch.org
X-WR-CALDESC:Events for Boyd Ranch
REFRESH-INTERVAL;VALUE=DURATION:PT1H
X-Robots-Tag:noindex
X-PUBLISHED-TTL:PT1H
BEGIN:VTIMEZONE
TZID:America/Phoenix
BEGIN:STANDARD
TZOFFSETFROM:-0700
TZOFFSETTO:-0700
TZNAME:MST
DTSTART:20240101T000000
END:STANDARD
END:VTIMEZONE
BEGIN:VEVENT
DTSTART;VALUE=DATE:20250214
DTEND;VALUE=DATE:20250217
DTSTAMP:20260420T160711
CREATED:20250105T195205Z
LAST-MODIFIED:20250105T195205Z
UID:16403-1739491200-1739750399@www.boydranch.org
SUMMARY:Gold Rush
DESCRIPTION:
URL:https://www.boydranch.org/event/gold-rush/
LOCATION:Gold Rush Days\, 160 E Center\, Wickenburg\, AZ\, 85390\, United States
CATEGORIES:Event
END:VEVENT
END:VCALENDAR